BEGIN:VCALENDAR
PRODID:-//hacksw/handcal//NONSGML v1.0//EN
VERSION:2.0
METHOD:PUBLISH
BEGIN:VEVENT
DTSTART:20260319T153000Z
DTEND:20260319T170000Z
LOCATION:Cooper's Hawk Winery & Restaurant
UID:2901720260319T153000ZThe EPC Talk Show Live
DTSTAMP:20260419T130118Z
DESCRIPTION:\n\nLOCATION: COOPER'S HAWK WINERY & RESTAURANT \n  \nThe EPCLC Talk Show Live:\n A Trustee's Guide to Navigating Trust Conflict\n What happens when one beneficiary believes distributions are unfair? When is discretionary language like HEMS vewed as a guarantee rather than guidance? Or when advisors and fiduciaries find themselves in the midde of long-standing family dynamics? What authority and influence do beneficiaries hold - and how can professionals balance transparency, compliance and family relationships while honoring the grantor's wishes? \nWhen you register, please indicate your meal selection \n Gnocchi alla Vodka, Italian sausage, San Marzano vodka cream, Basil, Parmesan Ellie's Chicken Piccata, lemon butter caper sauce, capellini pasta, asparagus  Napa Salad, apple, goat cheese, dried cherry, corn, avocado, toasted marcona almonds, cilantro, tomato, honey mustard vinaigrette\n  \n                       Note: "Pay at Door" may be by cash or check only \n \nRSVP Deadline:\nREGISTRATIONS close March 12 noon \n \nPLEASE: If you reserve and will be unable to attend,\n call/text 239.826.4588\nso there's no wasted food or money.\n \nLocation: Cooper's Hawk, 13671 Olympic Court, at the back of the shopping center at the southwest corner of - with entrances on - Daniels Parkway and Six Mile Cypress Parkway. \n \nColleagues and professional friends are always welcomed guests.  We are proud to share our Council's activities with them.  Should they wish to be considered for membership, an application is available [Estate Planning Council of Lee County Inc. - Member Application (epclc.org)](https://epclc.org/form.php?form_id=8).\n \nArlene R. Foreman, CLU®, ChFC®, MSFS, CFP®, CTFA\nSecretary, Estate Planning Council of Lee County, Inc.\n 10091 Colonial Country Club Blvd.\n Fort Myers, FL 33913-7018\n admin@epclc.org\n (239) 826-4588\n
SUMMARY:The EPC Talk Show Live - Estate Planning Council of Lee  County 
PRIORITY:3
BEGIN:VALARM
TRIGGER:PT18H
ACTION:DISPLAY
DESCRIPTION:Reminder
END:VALARM
END:VEVENT
END:VCALENDAR