BEGIN:VCALENDAR
PRODID:-//hacksw/handcal//NONSGML v1.0//EN
VERSION:2.0
METHOD:PUBLISH
BEGIN:VEVENT
DTSTART:20260917T153000Z
DTEND:20260917T170000Z
LOCATION:Cooper's Hawk Winery & Restaurant
UID:2907820260917T153000ZInside Your Lee Clerk & Comptroller’s office
DTSTAMP:20260425T132433Z
DESCRIPTION:\n \n \nLOCATION: HERITAGE PALMS GOLF & COUNTRY CLUB\n \nFrom the Heritage Palms Gate House on Six Mile Cypress Parkway:\n Go straight ahead to the stop sign and the Clubhouse will be directly in front of you. \n \nEvery will, trust, deed, and court filing relies on a network of publicâsector responsibilities that most\n clients, and many professionals, rarely see. Discover how your Lee Clerk & Comptroller’s office manages recording, filing, and case processing, and how as Comptroller, we ensure fiscal accountability across county government. We’ll also spotlight our free Property Fraud Alert service and its growing importance in safeguarding real estate assets.\n Clerk Karnes was appointed Clerk of the Court & Comptroller by Gov. DeSantis in March 2022 and was elected to the position in August 2022 by Lee County voters. Lifelong resident of Florida, he moved to Lee County in 2006 to attend college – GO EAGLES!  Karnes holds a Master’s Degree in Legal Studies (MLS) from American Public University and a Bachelor’s Degree from Florida Gulf Coast University.  âHe is a 17-year veteran of the Clerk’s office and has held a variety leadership positions managing many projects and legislative changes. \nWhen you register, please indicate your meal selection \n1. \n 2.\n 3.  \n \n                                     Note: "Pay at Door" may be by cash or check only.\n \nRSVP Deadline September 10  Noon\n \nPLEASE: If you reserve and will be unable to attend,\n call/text 239.826.4588\nso there's no wasted food or money.\n \n* * * * * * * * * * *\n           Sponsorship Available for This Meeting\n * * * * * * * * * * *\n \nColleagues and professional friends are always welcomed guests.  We are proud to share our Council's activities with them.  Should they wish to be considered for membership, an application is available [Estate Planning Council of Lee County Inc. - Member Application (epclc.org)](https://epclc.org/form.php?form_id=8).\n \nArlene R. Foreman, CLU®, ChFC®, MSFS, CFP®, CTFA\nSecretary, Estate Planning Council of Lee County, Inc.\n 10091 Colonial Country Club Blvd.\n Fort Myers, FL 33913-7018\nadmin@epclc.org\n (239) 826-4588\n
SUMMARY:Inside Your Lee Clerk & Comptroller’s office - Estate Planning Council of Lee  County 
PRIORITY:3
BEGIN:VALARM
TRIGGER:PT18H
ACTION:DISPLAY
DESCRIPTION:Reminder
END:VALARM
END:VEVENT
END:VCALENDAR